BEGIN:VCALENDAR
VERSION:2.0
PRODID:-//Anthropologie Evolutive @ISEM - ECPv6.15.20//NONSGML v1.0//EN
CALSCALE:GREGORIAN
METHOD:PUBLISH
X-ORIGINAL-URL:https://evoanth.cnrs.fr
X-WR-CALDESC:Évènements pour Anthropologie Evolutive @ISEM
REFRESH-INTERVAL;VALUE=DURATION:PT1H
X-Robots-Tag:noindex
X-PUBLISHED-TTL:PT1H
BEGIN:VTIMEZONE
TZID:Europe/Paris
BEGIN:DAYLIGHT
TZOFFSETFROM:+0100
TZOFFSETTO:+0200
TZNAME:CEST
DTSTART:20230326T010000
END:DAYLIGHT
BEGIN:STANDARD
TZOFFSETFROM:+0200
TZOFFSETTO:+0100
TZNAME:CET
DTSTART:20231029T010000
END:STANDARD
BEGIN:DAYLIGHT
TZOFFSETFROM:+0100
TZOFFSETTO:+0200
TZNAME:CEST
DTSTART:20240331T010000
END:DAYLIGHT
BEGIN:STANDARD
TZOFFSETFROM:+0200
TZOFFSETTO:+0100
TZNAME:CET
DTSTART:20241027T010000
END:STANDARD
BEGIN:DAYLIGHT
TZOFFSETFROM:+0100
TZOFFSETTO:+0200
TZNAME:CEST
DTSTART:20250330T010000
END:DAYLIGHT
BEGIN:STANDARD
TZOFFSETFROM:+0200
TZOFFSETTO:+0100
TZNAME:CET
DTSTART:20251026T010000
END:STANDARD
END:VTIMEZONE
BEGIN:VEVENT
DTSTART;TZID=Europe/Paris:20240618T080000
DTEND;TZID=Europe/Paris:20240618T170000
DTSTAMP:20260420T153450
CREATED:20240517T155808Z
LAST-MODIFIED:20240517T155811Z
UID:6550-1718697600-1718730000@evoanth.cnrs.fr
SUMMARY:MEEDIN’s "Newcomers Day"
DESCRIPTION:Cette 13ème journée scientifique est dédiée à la présentation des recherches des chercheurs permanents récemment recrutés travaillant sur l’écologie et l’évolution des interactions hôte-parasite et de la santé à Montpellier. Cet événement se déroulera en présentiel et sera suivi d’un apéritif sur les tables de pique-nique à l’extérieur du bâtiment 22. \n\n\n\n\n\n\n\n\n\n\n\nmeedin_NewercomesJS_18Juin2024_programme-1Télécharger
URL:https://evoanth.cnrs.fr/lagenda1/meedins-newcomers-day/
LOCATION:Université Montpellier Campus Triolet ISEM Salle Louis Thaler Bât 22 1er étage\, Place Eugène Bataillon\, Montpellier\, Languedoc Roussillon\, 34095\, France
CATEGORIES:Conférences,Séminaires
ATTACH;FMTTYPE=image/png:https://evoanth.cnrs.fr/wp-content/uploads/2024/05/meedin.png
END:VEVENT
END:VCALENDAR