BEGIN:VCALENDAR
VERSION:2.0
PRODID:-//Anthropologie Evolutive @ISEM - ECPv6.15.20//NONSGML v1.0//EN
CALSCALE:GREGORIAN
METHOD:PUBLISH
X-WR-CALNAME:Anthropologie Evolutive @ISEM
X-ORIGINAL-URL:https://evoanth.cnrs.fr
X-WR-CALDESC:Évènements pour Anthropologie Evolutive @ISEM
REFRESH-INTERVAL;VALUE=DURATION:PT1H
X-Robots-Tag:noindex
X-PUBLISHED-TTL:PT1H
BEGIN:VTIMEZONE
TZID:Europe/Paris
BEGIN:DAYLIGHT
TZOFFSETFROM:+0100
TZOFFSETTO:+0200
TZNAME:CEST
DTSTART:20230326T010000
END:DAYLIGHT
BEGIN:STANDARD
TZOFFSETFROM:+0200
TZOFFSETTO:+0100
TZNAME:CET
DTSTART:20231029T010000
END:STANDARD
BEGIN:DAYLIGHT
TZOFFSETFROM:+0100
TZOFFSETTO:+0200
TZNAME:CEST
DTSTART:20240331T010000
END:DAYLIGHT
BEGIN:STANDARD
TZOFFSETFROM:+0200
TZOFFSETTO:+0100
TZNAME:CET
DTSTART:20241027T010000
END:STANDARD
BEGIN:DAYLIGHT
TZOFFSETFROM:+0100
TZOFFSETTO:+0200
TZNAME:CEST
DTSTART:20250330T010000
END:DAYLIGHT
BEGIN:STANDARD
TZOFFSETFROM:+0200
TZOFFSETTO:+0100
TZNAME:CET
DTSTART:20251026T010000
END:STANDARD
END:VTIMEZONE
BEGIN:VEVENT
DTSTART;TZID=Europe/Paris:20240112T113000
DTEND;TZID=Europe/Paris:20240112T123000
DTSTAMP:20260419T224445
CREATED:20230901T123255Z
LAST-MODIFIED:20240112T170516Z
UID:5731-1705059000-1705062600@evoanth.cnrs.fr
SUMMARY:Séminaire SEEM de Florence Lévrero- Maitre de Conférence en Biologie à l'Université Jean Monnet Saint Etienne et chercheuse au sein de l'équipe ENES du CRNL
DESCRIPTION:Séminaire SEEM –  \n\n\n\nL’évolution de la communication vocale est le résultat de multiples pressions de sélection\, parmi lesquelles la vie sociale joue un rôle important. En effet\, différents types d’informations doivent être encodés de manière fiable dans les vocalisations en fonction des besoins sociaux de l’espèce. Dans cette présentation\, je vais d’abord examiner les influences génétiques et sociales sur les caractéristiques vocales de deux espèces de primates forestiers (mandrills et bonobos)\, et comparer la force de la signature d’identité à travers leurs répertoires vocaux. Deuxièmement\, parce que le cœur de la communication n’est pas seulement ce qui peut être exprimé par un individu isolé\, mais aussi la manière dont les interactions vocales entre individus sont structurées\, je vais étudier les motifs d’appels (appels isolés\, séries d’appels consécutifs\, interactions vocales) chez des espèces ayant des systèmes sociaux différents (orang-outans\, gorilles\, chimpanzés et bonobos). Des comportements vocaux distincts liés au mode de vie ont été démontrés\, suggérant le rôle important de la vie sociale dans l’évolution de la communication vocale chez nos parents les plus proches.
URL:https://evoanth.cnrs.fr/lagenda1/seminaire-seem-de-carel-van-schaik-primatologue/
LOCATION:Université Montpellier Campus Triolet ISEM Salle Louis Thaler Bât 22 1er étage\, Place Eugène Bataillon\, Montpellier\, Languedoc Roussillon\, 34095\, France
CATEGORIES:Séminaires
END:VEVENT
END:VCALENDAR