BEGIN:VCALENDAR
VERSION:2.0
PRODID:-//Anthropologie Evolutive @ISEM - ECPv6.15.20//NONSGML v1.0//EN
CALSCALE:GREGORIAN
METHOD:PUBLISH
X-WR-CALNAME:Anthropologie Evolutive @ISEM
X-ORIGINAL-URL:https://evoanth.cnrs.fr
X-WR-CALDESC:Évènements pour Anthropologie Evolutive @ISEM
REFRESH-INTERVAL;VALUE=DURATION:PT1H
X-Robots-Tag:noindex
X-PUBLISHED-TTL:PT1H
BEGIN:VTIMEZONE
TZID:Europe/Paris
BEGIN:DAYLIGHT
TZOFFSETFROM:+0100
TZOFFSETTO:+0200
TZNAME:CEST
DTSTART:20230326T010000
END:DAYLIGHT
BEGIN:STANDARD
TZOFFSETFROM:+0200
TZOFFSETTO:+0100
TZNAME:CET
DTSTART:20231029T010000
END:STANDARD
BEGIN:DAYLIGHT
TZOFFSETFROM:+0100
TZOFFSETTO:+0200
TZNAME:CEST
DTSTART:20240331T010000
END:DAYLIGHT
BEGIN:STANDARD
TZOFFSETFROM:+0200
TZOFFSETTO:+0100
TZNAME:CET
DTSTART:20241027T010000
END:STANDARD
BEGIN:DAYLIGHT
TZOFFSETFROM:+0100
TZOFFSETTO:+0200
TZNAME:CEST
DTSTART:20250330T010000
END:DAYLIGHT
BEGIN:STANDARD
TZOFFSETFROM:+0200
TZOFFSETTO:+0100
TZNAME:CET
DTSTART:20251026T010000
END:STANDARD
END:VTIMEZONE
BEGIN:VEVENT
DTSTART;TZID=Europe/Paris:20240202T100000
DTEND;TZID=Europe/Paris:20240202T110000
DTSTAMP:20260420T200456
CREATED:20240112T175536Z
LAST-MODIFIED:20240117T151421Z
UID:5990-1706868000-1706871600@evoanth.cnrs.fr
SUMMARY:Séminaire équipe Anthropologie Evolutive - Maria van Noordwijk\, Primatologue: succès reproducteur des mâles chez les orangoutans
DESCRIPTION:« Cycle de vie de l’orang-outan : lent mais sûr » \n\n\n\nParmi nos parents les plus proches encore existants\, la vie des orangs-outans reste le moins documentée et compris\, principalement en raison de leur mode de vie solitaire. Basée sur une étude de 15 ans sur les orangs-outans de Bornéo (Pongo pygmaeus wurmbii)\, notre recherche vise à combiner des données comportementales\, de déplacement\, génétiques et démographiques pour (re)construire les parcours reproductifs des femelles et des mâles. Comparée aux autres grands singes\, la survie (précoce) des orangs-outans est très élevée\, mais les intervalles entre les naissances sont extrêmement longs et la reproduction est retardée chez les deux sexes. Ce schéma aide à comprendre les facteurs qui ont conduit à la variation remarquable dans les systèmes sociaux et d’accouplement de tous les grands singes\, y compris les humains.
URL:https://evoanth.cnrs.fr/lagenda1/seminaire-equipe-anthropologie-evolutive-maria-van-noordwijk-primatologue-succes-reproducteur-des-males-chez-les-orangoutans/
LOCATION:Université Montpellier Campus Triolet ISEM Salle Louis Thaler Bât 22 1er étage\, Place Eugène Bataillon\, Montpellier\, Languedoc Roussillon\, 34095\, France
CATEGORIES:Conférences,Séminaires
END:VEVENT
BEGIN:VEVENT
DTSTART;TZID=Europe/Paris:20240202T113000
DTEND;TZID=Europe/Paris:20240202T123000
DTSTAMP:20260420T200456
CREATED:20240117T160603Z
LAST-MODIFIED:20240117T160605Z
UID:6090-1706873400-1706877000@evoanth.cnrs.fr
SUMMARY:Séminaire SEEM – Carel van Schaik and Zitan Song
DESCRIPTION:Le cerveau coûteux et l’évolution de la taille du cerveau \n\n\n\nLes cerveaux des vertébrés varient considérablement en taille\, et cette variation est souvent attribuée à des demandes cognitives différentes. Ici\, nous nous demandons si les coûts inhabituellement élevés des cerveaux ont agi comme des contraintes sur l’évolution de la taille du cerveau. Nous confirmons que les cerveaux des mammifères sont plus petits lorsque les animaux font face à des périodes de prise alimentaire nette réduite\, mais nous montrons également que la taille du cerveau a coévolué avec une plus grande provision avant ou après l’éclosion chez les vertébrés endothermiques et exothermiques. Nous concluons que l’évolution de cerveaux volumineux a été rendue possible par la levée de la contrainte sur la taille des œufs ou la provision parentale avant ou après la naissance\, liée à l’évolution des œufs à coquille dure et de l’endothermie.
URL:https://evoanth.cnrs.fr/lagenda1/seminaire-seem-carel-van-schaik-and-zitan-song/
LOCATION:Université Montpellier Campus Triolet ISEM Salle Louis Thaler Bât 22 1er étage\, Place Eugène Bataillon\, Montpellier\, Languedoc Roussillon\, 34095\, France
END:VEVENT
BEGIN:VEVENT
DTSTART;TZID=Europe/Paris:20240202T113000
DTEND;TZID=Europe/Paris:20240202T123000
DTSTAMP:20260420T200456
CREATED:20240117T160919Z
LAST-MODIFIED:20240117T160948Z
UID:6094-1706873400-1706877000@evoanth.cnrs.fr
SUMMARY:Séminaire SEEM - Carel van Schaik et Zitan Song
DESCRIPTION:Le cerveau coûteux et l’évolution de la taille du cerveau \n\n\n\nLes cerveaux des vertébrés varient considérablement en taille\, et cette variation est souvent attribuée à des demandes cognitives différentes. Ici\, nous nous demandons si les coûts inhabituellement élevés des cerveaux ont agi comme des contraintes sur l’évolution de la taille du cerveau. Nous confirmons que les cerveaux des mammifères sont plus petits lorsque les animaux font face à des périodes de prise alimentaire nette réduite\, mais nous montrons également que la taille du cerveau a coévolué avec une plus grande provision avant ou après l’éclosion chez les vertébrés endothermiques et exothermiques. Nous concluons que l’évolution de cerveaux volumineux a été rendue possible par la levée de la contrainte sur la taille des œufs ou la provision parentale avant ou après la naissance\, liée à l’évolution des œufs à coquille dure et de l’endothermie.
URL:https://evoanth.cnrs.fr/lagenda1/seminaire-seem-carel-van-schaik-et-zitan-songseminaire-seem/
LOCATION:Université Montpellier Campus Triolet ISEM Salle Louis Thaler Bât 22 1er étage\, Place Eugène Bataillon\, Montpellier\, Languedoc Roussillon\, 34095\, France
END:VEVENT
BEGIN:VEVENT
DTSTART;TZID=Europe/Paris:20240227T080000
DTEND;TZID=Europe/Paris:20240227T170000
DTSTAMP:20260420T200456
CREATED:20240228T085029Z
LAST-MODIFIED:20240228T152339Z
UID:6113-1709020800-1709053200@evoanth.cnrs.fr
SUMMARY:The evolution of power asymmetries between the sexes in primates / Elise Huchard
DESCRIPTION:Frontiers in Social Evolution Seminar
URL:https://evoanth.cnrs.fr/lagenda1/the-evolution-of-power-asymmetries-between-the-sexes-in-primates-elise-huchard/
LOCATION:Languedoc Roussillon
CATEGORIES:Conférences,Séminaires
END:VEVENT
BEGIN:VEVENT
DTSTART;TZID=Europe/Paris:20240227T140000
DTEND;TZID=Europe/Paris:20240227T153000
DTSTAMP:20260420T200456
CREATED:20240429T085515Z
LAST-MODIFIED:20240429T085856Z
UID:6478-1709042400-1709047800@evoanth.cnrs.fr
SUMMARY:The ecology of sexual coercion and of male-female power asymmetries in primates : Elise Huchard | Frontiers in Social Evolution (FINE) online seminar series
DESCRIPTION:In animal societies\, control over resources and reproduction is often biased towards one sex. Such power asymmetries between the sexes largely shape male-female sexual and social relationships. In particular\, males often coerce females in reproductive contexts\, but also in other contexts. Yet\, the ecological and evolutionary underpinnings of male-female power asymmetries remain poorly understood. In this talk\, I use long-term data from wild primates as well as comparative data from the literature to show how variation in power asymmetries between the sexes can be quantified\, and try to explain some of this variation.
URL:https://evoanth.cnrs.fr/lagenda1/the-ecology-of-sexual-coercion-and-of-male-female-power-asymmetries-in-primates-elise-huchard-frontiers-in-social-evolution-fine-online-seminar-series/
LOCATION:Languedoc Roussillon
CATEGORIES:Séminaires,Webinaires
END:VEVENT
END:VCALENDAR