BEGIN:VCALENDAR
VERSION:2.0
PRODID:-//Anthropologie Evolutive @ISEM - ECPv6.15.20//NONSGML v1.0//EN
CALSCALE:GREGORIAN
METHOD:PUBLISH
X-ORIGINAL-URL:https://evoanth.cnrs.fr
X-WR-CALDESC:Évènements pour Anthropologie Evolutive @ISEM
REFRESH-INTERVAL;VALUE=DURATION:PT1H
X-Robots-Tag:noindex
X-PUBLISHED-TTL:PT1H
BEGIN:VTIMEZONE
TZID:Europe/Paris
BEGIN:DAYLIGHT
TZOFFSETFROM:+0100
TZOFFSETTO:+0200
TZNAME:CEST
DTSTART:20220327T010000
END:DAYLIGHT
BEGIN:STANDARD
TZOFFSETFROM:+0200
TZOFFSETTO:+0100
TZNAME:CET
DTSTART:20221030T010000
END:STANDARD
BEGIN:DAYLIGHT
TZOFFSETFROM:+0100
TZOFFSETTO:+0200
TZNAME:CEST
DTSTART:20230326T010000
END:DAYLIGHT
BEGIN:STANDARD
TZOFFSETFROM:+0200
TZOFFSETTO:+0100
TZNAME:CET
DTSTART:20231029T010000
END:STANDARD
BEGIN:DAYLIGHT
TZOFFSETFROM:+0100
TZOFFSETTO:+0200
TZNAME:CEST
DTSTART:20240331T010000
END:DAYLIGHT
BEGIN:STANDARD
TZOFFSETFROM:+0200
TZOFFSETTO:+0100
TZNAME:CET
DTSTART:20241027T010000
END:STANDARD
END:VTIMEZONE
BEGIN:VEVENT
DTSTART;TZID=Europe/Paris:20231128T120000
DTEND;TZID=Europe/Paris:20231128T140000
DTSTAMP:20260420T083211
CREATED:20240409T141428Z
LAST-MODIFIED:20240409T144150Z
UID:6446-1701172800-1701180000@evoanth.cnrs.fr
SUMMARY:Identification précoce des indices de maladies via les sens - GDRO3 Webinaire
DESCRIPTION:
URL:https://evoanth.cnrs.fr/lagenda1/identification-precoce-des-indices-de-maladies-via-les-sens-gdro3-webinaire-28-11-23-arnaud-tognetti/
LOCATION:Languedoc Roussillon
CATEGORIES:Webinaires
ATTACH;FMTTYPE=image/jpeg:https://evoanth.cnrs.fr/wp-content/uploads/2024/04/arnaud_tognetti_webminar_gdr03_28nov2023.jpg
END:VEVENT
END:VCALENDAR