BEGIN:VCALENDAR
VERSION:2.0
PRODID:-//Anthropologie Evolutive @ISEM - ECPv6.15.20//NONSGML v1.0//EN
CALSCALE:GREGORIAN
METHOD:PUBLISH
X-ORIGINAL-URL:https://evoanth.cnrs.fr
X-WR-CALDESC:Évènements pour Anthropologie Evolutive @ISEM
REFRESH-INTERVAL;VALUE=DURATION:PT1H
X-Robots-Tag:noindex
X-PUBLISHED-TTL:PT1H
BEGIN:VTIMEZONE
TZID:Europe/Paris
BEGIN:DAYLIGHT
TZOFFSETFROM:+0100
TZOFFSETTO:+0200
TZNAME:CEST
DTSTART:20230326T010000
END:DAYLIGHT
BEGIN:STANDARD
TZOFFSETFROM:+0200
TZOFFSETTO:+0100
TZNAME:CET
DTSTART:20231029T010000
END:STANDARD
BEGIN:DAYLIGHT
TZOFFSETFROM:+0100
TZOFFSETTO:+0200
TZNAME:CEST
DTSTART:20240331T010000
END:DAYLIGHT
BEGIN:STANDARD
TZOFFSETFROM:+0200
TZOFFSETTO:+0100
TZNAME:CET
DTSTART:20241027T010000
END:STANDARD
BEGIN:DAYLIGHT
TZOFFSETFROM:+0100
TZOFFSETTO:+0200
TZNAME:CEST
DTSTART:20250330T010000
END:DAYLIGHT
BEGIN:STANDARD
TZOFFSETFROM:+0200
TZOFFSETTO:+0100
TZNAME:CET
DTSTART:20251026T010000
END:STANDARD
END:VTIMEZONE
BEGIN:VEVENT
DTSTART;TZID=Europe/Paris:20240416T140000
DTEND;TZID=Europe/Paris:20240419T170000
DTSTAMP:20260421T222618
CREATED:20240116T173125Z
LAST-MODIFIED:20240227T171227Z
UID:6048-1713276000-1713546000@evoanth.cnrs.fr
SUMMARY:Annual Conference of the European Human Behaviour and Evolution Association
DESCRIPTION:La société savante European Human Behaviour and Evolution Association (EHBEA) réunit annuellement des chercheurs internationaux\, issus des sciences de l’évolution et des sciences humaines\, qui s’intéressent aux adaptations physiologiques et comportementales de l’espèce humaine. L’approche évolutionniste\, en prenant en compte les processus de sélection naturelle et les compromis évolutifs\, a ouvert de nombreuses pistes pour la compréhension de la cognition\, du comportement\, et des sociétés humaines. Les conférences annuelles de l’EHBEA permettent\, grâce à l’interdisciplinarité des recherches présentées\, de faire avancer la réflexion scientifique autours de sujets tels que l’écologie comportementale\, la psychologie évolutionniste\, l’évolution culturelle\, et la médecine évolutionniste. Cette conférence s’est tenue à Helsinki en 2015\, Londres en 2016 et 2023\, Paris en 2017\, Pécs en 2018\, et Toulouse en 2019. Montpellier\, où elle avait déjà eu lieu en 2008\, a été sélectionnée de nouveau pour accueillir cette manifestation en 2024. Cette conférence\, organisée par l’Institut des Sciences de l’Evolution de Montpellier (ISEM)\, se déroulera au sein du prestigieux et récent Conservatoire à Rayonnement Régional
URL:https://evoanth.cnrs.fr/lagenda1/annual-conference-of-the-european-human-behaviour-and-evolution-association/
LOCATION:Cité des Arts – Montpellier – France\, 13 Avenue du professeur Grasset\, Montpellier\, France
CATEGORIES:Conférences,Séminaires
ATTACH;FMTTYPE=image/jpeg:https://evoanth.cnrs.fr/wp-content/uploads/2024/01/ehbea2024.jpg
ORGANIZER;CN="Equipe Anthropologie Evolutive":MAILTO:alexandra.alvergne@umontpellier.fr
END:VEVENT
BEGIN:VEVENT
DTSTART;TZID=Europe/Paris:20240422T140000
DTEND;TZID=Europe/Paris:20240422T160000
DTSTAMP:20260421T222618
CREATED:20240409T145656Z
LAST-MODIFIED:20240409T145659Z
UID:6463-1713794400-1713801600@evoanth.cnrs.fr
SUMMARY:Wild orangutan gut microbiomes across a shifting nutritionallandscape - Rebecca Brittain - Nsf Sbe Postdoctoral Research Fellow - Yale & Jagiellonian University
DESCRIPTION:Wild orangutans inhabit extremely variable dietary environments with fluctuations in fruit availability that cause significant changes in their dietary compositions and total caloric intake. Many studies on mammals and primates show clear signals of seasonal variation in gut microbiota. A few primate studies demonstrate that gut microbiota may be helping hosts maintain energy balance during seasonal fluctuations in diet by energetically compensating for nutritional stress or reductionsin intake. We measured temporal changes in wild orangutan diets and gut microbiota across a shifting nutritional landscape that is highly variable and unpredictable\, without clear seasons or cycles. Our results suggest that orangutan gut microbiomes are enhancing their ability to exploit periods of caloric abundance\, rather than compensating for reductions in dietary intake during lean periods
URL:https://evoanth.cnrs.fr/lagenda1/wild-orangutan-gut-microbiomes-across-a-shifting-nutritionallandscape-rebecca-brittain-nsf-sbe-postdoctoral-research-fellow-yale-jagiellonian-university/
LOCATION:Université Montpellier Campus Triolet ISEM Salle René Lavocat Bât 22 RDC\, ISEM - Batiment 22 - Place Eugène Bataillon\, Montpellier\, Languedoc Roussillon\, 34095
CATEGORIES:Conférences,Séminaires
END:VEVENT
END:VCALENDAR