BEGIN:VCALENDAR
VERSION:2.0
PRODID:-//Anthropologie Evolutive @ISEM - ECPv6.15.20//NONSGML v1.0//EN
CALSCALE:GREGORIAN
METHOD:PUBLISH
X-ORIGINAL-URL:https://evoanth.cnrs.fr
X-WR-CALDESC:Évènements pour Anthropologie Evolutive @ISEM
REFRESH-INTERVAL;VALUE=DURATION:PT1H
X-Robots-Tag:noindex
X-PUBLISHED-TTL:PT1H
BEGIN:VTIMEZONE
TZID:Europe/Paris
BEGIN:DAYLIGHT
TZOFFSETFROM:+0100
TZOFFSETTO:+0200
TZNAME:CEST
DTSTART:20230326T010000
END:DAYLIGHT
BEGIN:STANDARD
TZOFFSETFROM:+0200
TZOFFSETTO:+0100
TZNAME:CET
DTSTART:20231029T010000
END:STANDARD
BEGIN:DAYLIGHT
TZOFFSETFROM:+0100
TZOFFSETTO:+0200
TZNAME:CEST
DTSTART:20240331T010000
END:DAYLIGHT
BEGIN:STANDARD
TZOFFSETFROM:+0200
TZOFFSETTO:+0100
TZNAME:CET
DTSTART:20241027T010000
END:STANDARD
BEGIN:DAYLIGHT
TZOFFSETFROM:+0100
TZOFFSETTO:+0200
TZNAME:CEST
DTSTART:20250330T010000
END:DAYLIGHT
BEGIN:STANDARD
TZOFFSETFROM:+0200
TZOFFSETTO:+0100
TZNAME:CET
DTSTART:20251026T010000
END:STANDARD
END:VTIMEZONE
BEGIN:VEVENT
DTSTART;TZID=Europe/Paris:20240119T113000
DTEND;TZID=Europe/Paris:20240119T123000
DTSTAMP:20260419T200948
CREATED:20240116T165424Z
LAST-MODIFIED:20240117T160657Z
UID:6044-1705663800-1705667400@evoanth.cnrs.fr
SUMMARY:Séminaire SEEM – Alice Baniel « Preuves de la fécondité trompeuse chez un primate sauvage »
DESCRIPTION:Les renflements sexuels chez les primates ont depuis longtemps suscité des débats sur leur fonction – indiquent-ils de manière fiable la fécondité des femelles ou la brouillent-ils de manière trompeuse ? Ici\, nous apportons des preuves selon lesquelles les primates femelles peuvent manipuler les renflements sexuels pour indiquer extérieurement leur fécondité tout en échouant intérieurement à concevoir. Les geladas (Theropithecus gelada) présentent un conflit sexuel extrême avec l’infanticide sexuellement sélectionné. Lorsque de nouveaux mâles prennent le contrôle d’un groupe\, ils tuent souvent les bébés dépendants – un coût élevé pour les femelles en lactation. En utilisant 14 années de données démographiques et hormonales provenant d’une population de geladas en Éthiopie\, nous démontrons qu’après les prises de contrôle : les femelles en lactation reprenaient immédiatement des signes externes de fécondité (par exemple\, des renflements sexuels) ; ces renflements étaient beaucoup moins susceptibles de conduire à la conception ; et toutes les femelles en lactation présentaient une augmentation des œstrogènes médiatrice à la fois des renflements fertiles (« vrais ») et non fertiles (« faux »). De manière cruciale\, les femelles en lactation qui présentaient des renflements sexuels après la prise de contrôle étaient moins susceptibles de perdre leurs bébés à l’infanticide par rapport à celles qui échouaient. Nous proposons une stratégie selon laquelle les renflements sexuels des femelles en lactation vont probablement de trompeurs (lorsque les bébés sont très dépendants) à probablement honnêtes (lorsque les bébés pourraient être sevrés avec succès). Ces résultats soutiennent fortement l’idée que les renflements sexuels peuvent brouiller de manière trompeuse la fécondité en tant que contre-stratégie au conflit sexuel.
URL:https://evoanth.cnrs.fr/lagenda1/seminaire-seem-alice-baniel-preuves-de-la-fecondite-trompeuse-chez-un-primate-sauvage/
LOCATION:Université Montpellier Campus Triolet ISEM Salle Louis Thaler Bât 22 1er étage\, Place Eugène Bataillon\, Montpellier\, Languedoc Roussillon\, 34095\, France
CATEGORIES:Conférences,Séminaires
END:VEVENT
BEGIN:VEVENT
DTSTART;TZID=Europe/Paris:20240129T113000
DTEND;TZID=Europe/Paris:20240129T123000
DTSTAMP:20260419T200948
CREATED:20240112T174728Z
LAST-MODIFIED:20240116T171647Z
UID:5984-1706527800-1706531400@evoanth.cnrs.fr
SUMMARY:Séminaire du lundi ISEM- Michel Raymond
DESCRIPTION:Titre et résumé à venir
URL:https://evoanth.cnrs.fr/lagenda1/seminaire-du-lundi-isem-michel-raymond/
LOCATION:Université Montpellier Campus Triolet ISEM Salle Louis Thaler Bât 22 1er étage\, Place Eugène Bataillon\, Montpellier\, Languedoc Roussillon\, 34095\, France
CATEGORIES:Conférences,Séminaires
END:VEVENT
END:VCALENDAR